BEGIN:VCALENDAR
METHOD:PUBLISH
PRODID:Microsoft Exchange Server 2010
VERSION:2.0
BEGIN:VTIMEZONE
TZID:India Standard Time
BEGIN:STANDARD
DTSTART:16010101T000000
TZOFFSETFROM:+0530
TZOFFSETTO:+0530
END:STANDARD
BEGIN:DAYLIGHT
DTSTART:16010101T000000
TZOFFSETFROM:+0530
TZOFFSETTO:+0530
END:DAYLIGHT
END:VTIMEZONE
BEGIN:VEVENT
ORGANIZER;CN=Shweta Shah - KRC:mailto:shweta.shah@kraheja.com
ATTENDEE;ROLE=REQ-PARTICIPANT;PARTSTAT=NEEDS-ACTION;RSVP=TRUE;CN=Shweta Sha
 h - KRC:mailto:shweta.shah@kraheja.com
DESCRIPTION;LANGUAGE=en-IN:\n
UID:040000008200E00074C5B7101A82E00800000000909F7CAFF4D0DC01000000000000000
 010000000044BD03AD0E96C4B88E99D7E99216863
SUMMARY;LANGUAGE=en-IN:Earnings Call Q4 FY26 - IR Calendar
DTSTART;TZID=India Standard Time:20260430T160000
DTEND;TZID=India Standard Time:20260430T170000
CLASS:PUBLIC
PRIORITY:5
DTSTAMP:20260420T131349Z
TRANSP:OPAQUE
STATUS:CONFIRMED
SEQUENCE:0
LOCATION;LANGUAGE=en-IN:
X-MICROSOFT-CDO-APPT-SEQUENCE:0
X-MICROSOFT-CDO-OWNERAPPTID:0
X-MICROSOFT-CDO-BUSYSTATUS:BUSY
X-MICROSOFT-CDO-INTENDEDSTATUS:BUSY
X-MICROSOFT-CDO-ALLDAYEVENT:FALSE
X-MICROSOFT-CDO-IMPORTANCE:1
X-MICROSOFT-CDO-INSTTYPE:0
X-MICROSOFT-DONOTFORWARDMEETING:FALSE
X-MICROSOFT-DISALLOW-COUNTER:FALSE
X-MICROSOFT-REQUESTEDATTENDANCEMODE:DEFAULT
X-MICROSOFT-ISRESPONSEREQUESTED:TRUE
BEGIN:VALARM
DESCRIPTION:REMINDER
TRIGGER;RELATED=START:-PT15M
ACTION:DISPLAY
END:VALARM
END:VEVENT
END:VCALENDAR
